BEGIN:VCALENDAR
VERSION:2.0
PRODID:-// - ECPv6.13.2.1//NONSGML v1.0//EN
CALSCALE:GREGORIAN
METHOD:PUBLISH
X-ORIGINAL-URL:https://kultur-des-dialogs.de
X-WR-CALDESC:Veranstaltungen für 
REFRESH-INTERVAL;VALUE=DURATION:PT1H
X-Robots-Tag:noindex
X-PUBLISHED-TTL:PT1H
BEGIN:VTIMEZONE
TZID:Europe/Berlin
BEGIN:DAYLIGHT
TZOFFSETFROM:+0100
TZOFFSETTO:+0200
TZNAME:CEST
DTSTART:20200329T010000
END:DAYLIGHT
BEGIN:STANDARD
TZOFFSETFROM:+0200
TZOFFSETTO:+0100
TZNAME:CET
DTSTART:20201025T010000
END:STANDARD
BEGIN:DAYLIGHT
TZOFFSETFROM:+0100
TZOFFSETTO:+0200
TZNAME:CEST
DTSTART:20210328T010000
END:DAYLIGHT
BEGIN:STANDARD
TZOFFSETFROM:+0200
TZOFFSETTO:+0100
TZNAME:CET
DTSTART:20211031T010000
END:STANDARD
BEGIN:DAYLIGHT
TZOFFSETFROM:+0100
TZOFFSETTO:+0200
TZNAME:CEST
DTSTART:20220327T010000
END:DAYLIGHT
BEGIN:STANDARD
TZOFFSETFROM:+0200
TZOFFSETTO:+0100
TZNAME:CET
DTSTART:20221030T010000
END:STANDARD
BEGIN:DAYLIGHT
TZOFFSETFROM:+0100
TZOFFSETTO:+0200
TZNAME:CEST
DTSTART:20230326T010000
END:DAYLIGHT
BEGIN:STANDARD
TZOFFSETFROM:+0200
TZOFFSETTO:+0100
TZNAME:CET
DTSTART:20231029T010000
END:STANDARD
BEGIN:DAYLIGHT
TZOFFSETFROM:+0100
TZOFFSETTO:+0200
TZNAME:CEST
DTSTART:20240331T010000
END:DAYLIGHT
BEGIN:STANDARD
TZOFFSETFROM:+0200
TZOFFSETTO:+0100
TZNAME:CET
DTSTART:20241027T010000
END:STANDARD
BEGIN:DAYLIGHT
TZOFFSETFROM:+0100
TZOFFSETTO:+0200
TZNAME:CEST
DTSTART:20250330T010000
END:DAYLIGHT
BEGIN:STANDARD
TZOFFSETFROM:+0200
TZOFFSETTO:+0100
TZNAME:CET
DTSTART:20251026T010000
END:STANDARD
END:VTIMEZONE
BEGIN:VEVENT
DTSTART;TZID=Europe/Berlin:20251128T170000
DTEND;TZID=Europe/Berlin:20251201T130000
DTSTAMP:20260423T180410
CREATED:20250214T192703Z
LAST-MODIFIED:20250214T193025Z
UID:1446-1764349200-1764594000@kultur-des-dialogs.de
SUMMARY:Change Dialog
DESCRIPTION:Ein Dialogprojekt für Jugendliche ab 16 Jahren in Kooperation mit dem Evangelischen Kinder- und Jugendwerk Mecklenburg – Propstei Wismar (https://www.ejm-wismar.de). Wir wollen erkunden und erleben\, wie Dialoge scheinbar unversöhnliche Standpunkte gewinnbringend verwandeln kann. weitere Informationen über EJM Wismar (https://www.ejm-wismar.de).
URL:https://kultur-des-dialogs.de/veranstaltung/change-dialog/
LOCATION:Hiddensee\, Kirchweg 42\, 18565 Kloster
ATTACH;FMTTYPE=image/png:https://kultur-des-dialogs.de/wp-content/uploads/2025/02/arguing-7218071_1280-e1739561412744.png
END:VEVENT
BEGIN:VEVENT
DTSTART;TZID=Europe/Berlin:20250521T093000
DTEND;TZID=Europe/Berlin:20250521T160000
DTSTAMP:20260423T180410
CREATED:20250214T185359Z
LAST-MODIFIED:20250214T191105Z
UID:1437-1747819800-1747843200@kultur-des-dialogs.de
SUMMARY:Dialoge - Orte der Entfaltung
DESCRIPTION:Liebe Dialog-Interessierte\, wir laden herzlich ein zu einem Dialog-Tag unter dem Thema „Dialoge – Orte der Entfaltung“. Für diesen Tag haben wir den Gartensaal im Schleswig-Holstein-Haus gebucht. Die Teilnahmegebühren sollen 20€ betragen. Über Mittag wird es eine ausreichende Pause geben\, um sich gut in der Nähe zu verpflegen. Wenn der Frühling erblüht\, kommt eine Einladung mit umfassenden Informationen. Wir freuen uns auf euch!   
URL:https://kultur-des-dialogs.de/veranstaltung/dialoge-orte-der-entfaltung/
LOCATION:Schleswig-Holstein-Haus\, Puschkinstraße 12\, 19055 Schwerin
ATTACH;FMTTYPE=image/jpeg:https://kultur-des-dialogs.de/wp-content/uploads/2025/02/shoes-1480663_1280-e1739560221421.jpg
ORGANIZER;CN="Mit Uta Loheit und Friedemann M%C3%BCller":MAILTO:kontakt@kultur-des-dialogs.de
END:VEVENT
BEGIN:VEVENT
DTSTART;TZID=Europe/Berlin:20241018T170000
DTEND;TZID=Europe/Berlin:20241020T180000
DTSTAMP:20260423T180410
CREATED:20240310T183949Z
LAST-MODIFIED:20240310T183950Z
UID:1180-1729270800-1729447200@kultur-des-dialogs.de
SUMMARY:Jung und alt im Gespräch
DESCRIPTION:Eine Dialogwerkstatt\, die Horizonte weitet. Jung und Alt miteinander im Gespräch. Das kann nur bereichernd sein. Wir möchten einladen\, neugierig aufeinander zu sein\, an den eigenen Erfahrungen Anteil zu geben und unterschiedliche Sichtweisen zu erkunden. Das kann zu erstaunlichen Entdeckungen und Aha-Erlebnissen führen. Die unterschiedlichen Erfahrungen und Perspektiven zwischen den Generationen\, sollen uns – wenn’s gut geht – zur Bereicherung werden. Vielleicht führen sie dazu\, einander besser zu verstehen und sich seiner selbst bewusster zu werden. \n\n\n\nLeitung: Uta Loheit und Friedemann Müller \n\n\n\nSeminarbeitrag: € 203/235 (DZ/EZ m. Du/WC) \n\n\n\n\n\n\n\nhttps://www.bildung-voller-leben.de/programm/alle_angebote/seminar?id=9cf52ada-0b32-441a-ab03-7452cb0d9a0c
URL:https://kultur-des-dialogs.de/veranstaltung/jung-und-alt-im-gespraech/
CATEGORIES:Hermannsburg
ATTACH;FMTTYPE=image/png:https://kultur-des-dialogs.de/wp-content/uploads/2024/03/Vielfalt.png
END:VEVENT
BEGIN:VEVENT
DTSTART;TZID=Europe/Berlin:20240628T180000
DTEND;TZID=Europe/Berlin:20240630T130000
DTSTAMP:20260423T180410
CREATED:20240106T183141Z
LAST-MODIFIED:20240106T183143Z
UID:1155-1719597600-1719752400@kultur-des-dialogs.de
SUMMARY:Dialogische Kommunikation in Gruppen
DESCRIPTION:Die dialogische Kommunikation in Gruppen zu stärken und zu trainieren\, das ist Anliegen dieses Seminars. Dabei liegt der Fokus auf der Gesprächshaltung. In einem lebendigen Wechsel aus Übungen\, Dialogrunden\, Impulsen und Reflexionen werden Kompetenzen eingeübt\, die das Dialogische im Gespräch zur Entfaltung bringen. \n\n\n\nDer Dialog beschränkt sich nicht auf ein Zwiegespräch. Gerade auch für Teams und Gruppen kann er fruchtbar werden. Dies wird dann besonders hilfreich\, wenn in Gruppen komplexe Themen zu bearbeiten sind\, innovative Ideen und Lösungen entwickelt werden oder ins Stocken geratene Besprechungen wieder in Fluss kommen sollen. \n\n\n\nDialogische Kommunikation sensibilisiert für das Zusammenspiel der Einzelnen und der Gemeinschaft. Das macht Dialoge unserer Erfahrung nach so besonders. Ein Gruppendialog ergänzt andere Kommunikationskonzepte durch den Fokus auf die Haltung und Qualität des Gespräches und seinen klaren hilfreichen Rahmen. \n\n\n\nWir freuen uns auf dich/Sie! \n\n\n\nUta Loheit & Friedemann Müller
URL:https://kultur-des-dialogs.de/veranstaltung/dialogische-kommunikation-in-gruppen/
CATEGORIES:Sieben Linden
ATTACH;FMTTYPE=image/png:https://kultur-des-dialogs.de/wp-content/uploads/2024/01/Dialog-Kommunikation.png
END:VEVENT
BEGIN:VEVENT
DTSTART;TZID=Europe/Berlin:20231020T170000
DTEND;TZID=Europe/Berlin:20231022T140000
DTSTAMP:20260423T180410
CREATED:20230103T180553Z
LAST-MODIFIED:20230106T202014Z
UID:1057-1697821200-1697983200@kultur-des-dialogs.de
SUMMARY:Heiße Eisen
DESCRIPTION:Eine Dialogwerkstatt\, die Horizonte weitet \n\n\n\n\n\n\n\n\n\nWenn „heiße Eisen“ zum Thema werden\, wird es für ein gutes Gespräch oft schwierig. Unüberwindbar scheinen die Gräben der verschiedenen Meinungen und Positionen.  In diesem Seminar wollen wir „heiße Eisen“ zum Thema machen und erforschen\, was geschieht\, wenn das „Welt-Erklären“ oder Recht-Haben-Wollen\, außen vor bleiben. Wir versuchen in einen eröffnenden Dialog zu treten und bieten dafür wertvolles Handwerkzeug. Ein Angebot für Menschen\, die befriedigende Wege suchen\, um miteinander in Beziehung zu treten und schwierige Themen anzupacken. \n\n\n\nSeminarbeitrag: € 235\,- DZ (Du/WC)\, € 267\,- EZ (Du/WC) \n\n\n\nEvang. Bildungszentrum Hermannsburg – Heimvolkshochschule gGmbH\n\n\n\nLutterweg 16Hermannsburg\, 29320Deutschland+ Google Map \n\n\n\nhttps://www.bildung-voller-leben.de/programm
URL:https://kultur-des-dialogs.de/veranstaltung/heisse-eisen/
CATEGORIES:Hermannsburg
ATTACH;FMTTYPE=image/png:https://kultur-des-dialogs.de/wp-content/uploads/2023/01/heisseEisen.png
END:VEVENT
BEGIN:VEVENT
DTSTART;TZID=Europe/Berlin:20230915T180000
DTEND;TZID=Europe/Berlin:20230917T130000
DTSTAMP:20260423T180410
CREATED:20230104T204117Z
LAST-MODIFIED:20230106T201901Z
UID:1112-1694800800-1694955600@kultur-des-dialogs.de
SUMMARY:„Vergesst nicht\, wir reisen gemeinsam“
DESCRIPTION:Qualitäten der dialogischen Kommunikation \n\n\n\n\nWie gelingt das Gespräch miteinander? Wie können wir vermeiden\, dass wir uns missverstehen? Wie können wir im Gespräch zueinander finden? Diese Fragen beschäftigen immer wieder. Besonders\, wenn das Miteinander nicht gut läuft. Für solche Situationen gibt es viele sehr hilfreiche Konzepte\, um Kommunikation besser zu verstehen und zu gestalten.  \nDie dialogische Kommunikation ergänzt diese Konzepte grundlegend\, in dem sie für die Qualitäten von Gesprächen sensibilisiert\, an der Haltung in einem Gespräch ansetzt und Verfahren anbietet\, mit denen diese geübt und gestärkt werden kann. Dabei beschränkt sich der Dialog nicht nur auf ein Zwiegespräch\, sondern wird gerade auch für Teams und Gruppen fruchtbar. Dies wird dann besonders hilfreich\, wenn komplexe Themen zu bearbeiten sind\, innovative Ideen und Lösungen entwickelt werden sollen oder ins Stocken geratene Besprechungen in Fluss zu bringen sind.  \nDieses Seminar führt in das Verständnis dialogischer Kommunikation ein. Es ist geprägt von einem lebendigen Wechsel aus Übungen\, Dialogrunden\, Impulsen und Reflexionen. Einen Forschungsraum bietet es\, in dem Entdeckungen gemacht werden können\, wie eine dialogische Kommunikation im Miteinander zu Tiefe\, Neuem und wirklicher Begegnung führen kann.  \nSeminarkosten 180\,- €sozialermäßigt 84\,- €zuzüglich Unterbringung und Verpflegung \n\nÖkodorf Sieben Linden\n\nBeetzendorf OT Poppau\, 38489Deutschland+ Google Map\n039000-51235https://booking.seminardesk.de/de/siebenlinden?query=Dialog 
URL:https://kultur-des-dialogs.de/veranstaltung/vergesst-nicht-wir-reisen-gemeinsam/
CATEGORIES:Sieben Linden
ATTACH;FMTTYPE=image/png:https://kultur-des-dialogs.de/wp-content/uploads/2023/01/dialog.png
END:VEVENT
BEGIN:VEVENT
DTSTART;TZID=Europe/Berlin:20230324T170000
DTEND;TZID=Europe/Berlin:20230326T140000
DTSTAMP:20260423T180410
CREATED:20220126T201937Z
LAST-MODIFIED:20230106T201725Z
UID:917-1679677200-1679839200@kultur-des-dialogs.de
SUMMARY:„Wir wohnen Wort an Wort“
DESCRIPTION:Dialoge zu biblischen Texten für unsere Zeit \n\n\n\n\n\n\n\nMit einem neuen Format laden wir ein\, sich in verschiedene Bibeltexte\, in Worte der Schrift\, einzuwohnen. Dabei stiftet eine einfache und zugleich ganz besondere Form des Gesprächs weiten Raum\, eine inspirierende Atmosphäre und die Möglichkeit\, biblische Texte ganz neu zu entdecken. Dieses Format der Bibelgespräche macht vielleicht Lust\, in heimischen Hauskreisen oder Gemeindegruppen ausprobiert zu werden. \nSeminarbeitrag: € 235\,- DZ (Du/WC)\, € 267\,- EZ (Du/WC) \n\nEvang. Bildungszentrum Hermannsburg – Heimvolkshochschule gGmbH\n\nLutterweg 16Hermannsburg\, 29320Deutschland+ Google Map\nhttps://www.bildung-voller-leben.de/programm
URL:https://kultur-des-dialogs.de/veranstaltung/wir-wohnen-wort-an-wort/
LOCATION:Evang. Bildungszentrum Hermannsburg – Heimvolkshochschule gGmbH\, Lutterweg 16\, Hermannsburg\, 29320\, Deutschland
CATEGORIES:Sieben Linden
ATTACH;FMTTYPE=image/jpeg:https://kultur-des-dialogs.de/wp-content/uploads/2022/01/image.jpeg
END:VEVENT
BEGIN:VEVENT
DTSTART;TZID=Europe/Berlin:20220919T130000
DTEND;TZID=Europe/Berlin:20220923T180000
DTSTAMP:20260423T180410
CREATED:20220126T201250Z
LAST-MODIFIED:20230104T193217Z
UID:913-1663592400-1663956000@kultur-des-dialogs.de
SUMMARY:Erfrischende Weite im Miteinander
DESCRIPTION:Wie Begegnungen bereichern und Gespräche gelingen\n\n\n\nEine bewusste dialogische Haltung trägt dazu bei\, dass Gespräche eine öffnende Qualität erhalten und so Potentiale des Miteinanders zur Entfaltung kommen. Sie bildet mit ihren unterschiedlichen Facetten und Qualitäten das Herzstück\ndieses Seminars. Mit dem DIALOG-Konzept nach David Bohm werden Wege erlebbar\, wie die zwischenmenschliche Kommunikation bereichert werden kann\, wie neue Erkenntnisse gewonnen und stimmige Lösungen entwickelt werden können. Das DIALOG-Konzept ist im privaten Bereich wie im beruflichen Kontext einsetzbar.\n\nNach oben\n\n\n\n\nSeminarbeitrag: € 388\,- DZ (Du/WC)\, € 444\,- EZ (Du/WC)
URL:https://kultur-des-dialogs.de/veranstaltung/erfrischende-weite-im-miteinander/
LOCATION:Evang. Bildungszentrum Hermannsburg – Heimvolkshochschule gGmbH\, Lutterweg 16\, Hermannsburg\, 29320\, Deutschland
END:VEVENT
BEGIN:VEVENT
DTSTART;TZID=Europe/Berlin:20220509T120000
DTEND;TZID=Europe/Berlin:20220510T190000
DTSTAMP:20260423T180410
CREATED:20220126T195608Z
LAST-MODIFIED:20230104T200411Z
UID:905-1652097600-1652209200@kultur-des-dialogs.de
SUMMARY:Mehr als die Summe der Teile - vom Geheimnis des Dialogs
DESCRIPTION:Einführungsseminar in den Dialog nach David Bohm\n\n\n\nErkenntnisse einzelner Menschen bleiben fragmentarisch. Im gemeinsamen Gespräch können sich Potenziale der anwesenden Runde entfalten. Ob in der Begegnung mit Kindern\, Jugendlichen oder Erwachsenen – Dialogrunden scheinen uns für alle Gruppen geeignet.\n\nIm Dialog nach David Bohm geht es um das     Erkunden eines Gesprächsanliegens mit Respekt\, Achtsamkeit und Verbundenheit. Themen\, die aktuell brisant und in ihrer Komplexität herausfordernd sind\, lassen sich so neu bearbeiten.\n\nIn diesem Seminar üben wir dialogische Kompetenzen und reflektieren sie auf ihre Anwendbarkeit im kirchlichen wie gesellschaftlichen Alltag. Ziel ist es\, ein Gespür für die dialogische Haltung zu entwickeln\, Dialoge auszuprobieren und zugleich zu erleben\, wie das Ganze mehr als die Summe der Teile ist.\n\nNach oben\n\nAuskunft: Uta Loheit Tel 0381 37798713 \n\nAnmeldung: A. Waack-Glesmer • gemeindedienst@elkm.de \n\nDownload: Dialog Kühlungsborn 9.-10.Mai 22
URL:https://kultur-des-dialogs.de/veranstaltung/mehr-als-die-summe-der-teile/
LOCATION:Haus am Meer\, 18225 Kühlungsborn\, Ostseeallee 5\, Ostseeallee 5\, Kühlungsborn\, 18225
END:VEVENT
BEGIN:VEVENT
DTSTART;VALUE=DATE:20220318
DTEND;VALUE=DATE:20220322
DTSTAMP:20260423T180410
CREATED:20220126T153814Z
LAST-MODIFIED:20240310T180608Z
UID:889-1647565200-1647824399@kultur-des-dialogs.de
SUMMARY:Generationen im Gespräch
DESCRIPTION:Für Menschen\, die neugierig aufeinander sind\n\n\nWenn verschiedene Generationen zusammen sind\, zeigen sich Unterschiede und Gemeinsamkeiten in der Wahrnehmung und Bewertung persönlicher wie gesellschaftlicher Fragen. Das kann zu erstaunlichen Entdeckungen führen\, einander besser verstehen lassen und vielleicht auch gemeinsam aktiv werden lassen. Das Seminar bringt Jung und Alt zueinander\, erkundet gemeinsame Themen und lässt neue Perspektiven entstehen. Mit bereichernden Begegnungen ist zu rechnen.
URL:https://kultur-des-dialogs.de/veranstaltung/generationen-im-gespraech/
LOCATION:Evang. Bildungszentrum Hermannsburg – Heimvolkshochschule gGmbH\, Lutterweg 16\, Hermannsburg\, 29320\, Deutschland
END:VEVENT
BEGIN:VEVENT
DTSTART;VALUE=DATE:20211115
DTEND;VALUE=DATE:20211120
DTSTAMP:20260423T180410
CREATED:20201020T151357Z
LAST-MODIFIED:20210409T191820Z
UID:720-1636934400-1637366399@kultur-des-dialogs.de
SUMMARY:Dialogische Kommunikation
DESCRIPTION:Die Qualitäten des Dialogischen für die Arbeit in Gremien und Teams\nSie sehnen sich danach\, konstruktiv und mit Freude im Team oder Kollegium zusammenzuarbeiten? Sie wünschen sich einen fruchtbaren Austausch\, in dem einander ernsthaft zugehört wird? Sie vermissen Räume für Überraschungen im Gespräch oder die Freude am Entwickeln gemeinsamer Ideen? Dialogische Kommunikation kann hier zu einem Weg in eine Kultur des konstruktiven Miteinanders sein. \nMit diesem Seminar führen wir in das Wesen des Dialogs nach D. Bohm\, M. Buber u. a. ein\, reflektieren zentrale dialogische Kompetenzen\, üben mit einem Dialogverfahren und erkunden die dialogische Haltung und die Chancen des Dialogs im Blick auf alltags- und kontextrelevante Fragen. \nZiel ist es\, sowohl ein Gespür für die dialogische Haltung zu entwickeln und sich zugleich im gemeinsamen Denken zu üben. Ob im gesellschaftlichen Diskurs oder in Kollegien und Teams\, ob zwischen Generationen oder unterschiedlichen Kulturen\, ob auf der Arbeit\, in Schulen und Einrichtungen\, auf dem Markt\, in der Familie – die dialogische Haltung bringt das dringend benötigte Interesse am jeweils anderen Menschen ein. Der Dialog legt den Fokus auf die Aufmerksamkeit für das\, was gerade durch alle Unterschiedlichkeit und Vielfalt der Teilnehmenden entstehen will und nicht auf der Durchsetzung des Eigenen. Damit wird dieses Verfahren zu einem wertvollen Instrument\, wenn komplexe Themen bearbeitet werden sollen oder Beratungen ins Stocken geraten sind.In Übungen\, mit Informationen\, im Austausch und natürlich in Dialogen machen wir uns auf den Weg\, das Geheimnis des Dialogischen zu entdecken. \nDie inhaltlichen Schwerpunkte des Seminars\n Das gelungene Gespräch – was gute Kommunikation ausmacht\n Das Wesen des Dialogs – was es heißt\, dialogisch zu kommunizieren\n Gemeinsam denken – von Lösungen für komplexe Themen und der kollektiven Intelligenz\n Wissende und Lernende – wie unsere Haltung die Kommunikation prägt\n Dialog und Konflikt – von Wegen in herausfordernden Situationen\n Der Dialog zu zweit und in der Gruppe – was sie unterscheidet und ihnen gemeinsam ist\n Der Dialog ein Wagnis – vom schöpferischen Prozess und einem dialogischen Menschenbild\n Dialogische Kommunikation \nDiese Veranstaltung ist als Bildungsurlaub in Niedersachsen anerkannt! \n 
URL:https://kultur-des-dialogs.de/veranstaltung/dialogische-kommunikation/
LOCATION:Evang. Bildungszentrum Hermannsburg – Heimvolkshochschule gGmbH\, Lutterweg 16\, Hermannsburg\, 29320\, Deutschland
END:VEVENT
BEGIN:VEVENT
DTSTART;VALUE=DATE:20211015
DTEND;VALUE=DATE:20211018
DTSTAMP:20260423T180410
CREATED:20201020T153341Z
LAST-MODIFIED:20210831T171739Z
UID:725-1634256000-1634515199@kultur-des-dialogs.de
SUMMARY:Demokratie\, das ist Gespräch
DESCRIPTION:Dialog als zentrales Prinzip von Demokratie\nDemokratie lebt vom Widerspruch\, von der Vielfalt der Meinungen und vom Gespräch darüber. Wo das Gespräch miteinander nicht mehr möglich ist\, da ist der gesellschaftliche Zusammenhalt gefährdet. Mit diesem Seminar wollen wir einen Beitrag leisten\, Spaltungen in der Gesellschaft zu überwinden\, Gesprächsbereitschaft zu stiften und das Potential der Unterschiede zur Geltung zu bringen. In gemeinsamen Dialogrunden werden wir erkunden\, wie dies möglich werden kann. Dabei wird der Dialog für alle Teilnehmenden als Ort lebendiger Verständigung erlebbar. \nFlyer Demokratie\, das ist Gespräch
URL:https://kultur-des-dialogs.de/veranstaltung/demokratie-das-ist-gespraech/
LOCATION:Evang. Bildungszentrum Hermannsburg – Heimvolkshochschule gGmbH\, Lutterweg 16\, Hermannsburg\, 29320\, Deutschland
END:VEVENT
BEGIN:VEVENT
DTSTART;VALUE=DATE:20210617
DTEND;VALUE=DATE:20210621
DTSTAMP:20260423T180410
CREATED:20201020T133948Z
LAST-MODIFIED:20230105T183019Z
UID:713-1623888000-1624233599@kultur-des-dialogs.de
SUMMARY:Alles wirkliche Leben ist Begegnung
DESCRIPTION:Das dialogische Prinzip Martin Bubers und das Gespräch in Gruppen\nMartin Buber war jüdischer Religionsphilosoph und einer der großen Wegbereiter des Dialogs. Ihn interessierte\, was ein Gespräch besonders wertvoll macht. Dies nannte er das Dialogische. Ein dialogisches Gespräch führt in die Begegnung\, die möglich wird\, weil die Teilnehmenden auf Scheinen-Wollen verzichten und miteinander wahrhaft in Kontakt treten. Am anderen zum Ich bzw. Du werden und sich dabei selbst erkennen und verstehen lernen\, das sind die Prozesse\, in die Buber hineinführt.\n\nBubers Beitrag zu den dialogischen Qualitäten gilt in diesem Seminar das Augenmerk. Die Überlegungen zum Dialog von David Bohm und sein Verfahren für Gruppen\, nach dem wir arbeiten\, erfährt mit Martin Buber wertvolle Ergänzung und neue Perspektiven.\n\nIn einem klaren Setting bewegt sich das Gruppengespräch\, gleichsam als Einübung und Vergegenwärtigung der Begegnung ZWISCHEN den Teilnehmenden. Einseitigkeiten ergänzen einander im Gespräch und werden zu Einzigartigkeiten der Beteiligten.\n\nGrundlagen bilden dabei Respekt\, Achtsamkeit und Verbundenheit. Themen\, die aktuell brisant und in ihrer Komplexität herausfordernd sind\, lassen sich mit diesem Dialogverständnis neu erkunden.\n\nZiel ist es\, ein Gespür für die dialogische Haltung zu entwickeln und zugleich zu erleben\, welche Lebenskraft in der Möglichkeit\, einander wahrhaftig zu begegnen\, liegt.\n\nIn Übungen\, mit Informationen\, im Austausch und natürlich in Dialogen machen wir uns auf die Reise\, das Geheimnis des Gesprächs zu entdecken.\n\nHerzlich willkommen!\n\nHier der Einladungsflyer zum Download:
URL:https://kultur-des-dialogs.de/veranstaltung/alles-wirkliche-leben-ist-begegnung/
LOCATION:Ökodorf Sieben Linden\, Beetzendorf OT Poppau\, 38489\, Deutschland
CATEGORIES:Sieben Linden
END:VEVENT
BEGIN:VEVENT
DTSTART;VALUE=DATE:20210301
DTEND;VALUE=DATE:20210303
DTSTAMP:20260423T180410
CREATED:20201020T152513Z
LAST-MODIFIED:20201124T180706Z
UID:722-1614556800-1614729599@kultur-des-dialogs.de
SUMMARY:Die Kunst des Dialogs
DESCRIPTION:Einführung in die dialogische Arbeit nach David Bohm.\nDie Erkenntnis des Menschen ist immer fragmentarisch. Lernen wir aber bewusst\, gemeinsam zu denken\, entfaltet sich die Kraft der Gemeinschaft und ein Eindruck des Ganzen mit ungeahnten Einsichten wird erlebbar. Der Dialog nach David Bohm setzt hier an und will in ein gemeinsames\, neues und bewusstes Denken bringen. Bedingung ist dabei eine Haltung des Respekts\, der Achtsamkeit und der Verbundenheit. Ob im gesellschaftlichen Diskurs oder in Kollegien und Teams\, ob zwischen Generationen oder unterschiedlichen Kulturen\, ob auf der Arbeit\, in Schulen und Einrichtungen\, auf dem Markt\, in der Familie – die dialogische Haltung bringt im Gespräch das dringend benötigte Interesse am jeweils anderen Menschen ein. In diesem Umgehen miteinander wird die Stimme jedes und jeder Einzelnen geradezu gebraucht\, um von der Einzelansicht zur gemeinsamen Sicht über sich hinaus zu wachsen. Mit dem Seminar führen wir in das Wesen dieses Dialogverständnisses ein\, reflektieren zentrale dialogische Kompetenzen\, üben mit dem Dialogverfahren nach Bohm und erkunden die dialogische Haltung und die Chancen des Dialogs im Blick auf alltags- und kontextrelevante Fragen. Ziel ist es\, sowohl ein Gespür für die dialogische Haltung zu entwickeln und sich zugleich im gemeinsamen Denken zu üben. \nAnmeldeinformationen siehe Dialog-Flyer 2021
URL:https://kultur-des-dialogs.de/veranstaltung/die-kunst-des-dialogs/
LOCATION:Haus der Kirche „Sibrand Siegert“\, Grüner Winkel 10\, Güstrow\, 18273\, Deutschland
END:VEVENT
BEGIN:VEVENT
DTSTART;VALUE=DATE:20201127
DTEND;VALUE=DATE:20201201
DTSTAMP:20260423T180410
CREATED:20200104T152148Z
LAST-MODIFIED:20201124T180605Z
UID:491-1606438800-1606697999@kultur-des-dialogs.de
SUMMARY:Erzähl doch mal – Generationen im Dialog
DESCRIPTION:– Diese Veranstaltung muss leider entfallen – \nWenn verschiedene Generationen zusammen sind\, zeigen sich Unterschiede und Gemeinsamkeiten in der Wahrnehmung und Bewertung persönlicher wie gesellschaftlicher Fragen. Das kann zu erstaunlichen Entdeckungen führen\, einander besser verstehen lassen und vielleicht auch gemeinsam aktiv werden lassen. Das Seminar bringt Jung und Alt zueinander\, erkundet gemeinsame Themen und lässt neue Perspektiven entstehen. Mit bereichernden Begegnungen ist zu rechnen. \nHier der Einladungsflyer zum Seminar Generationen im Dialog 2020
URL:https://kultur-des-dialogs.de/veranstaltung/erzaehl-doch-mal-generationen-im-dialog/
LOCATION:Evang. Bildungszentrum Hermannsburg – Heimvolkshochschule gGmbH\, Lutterweg 16\, Hermannsburg\, 29320\, Deutschland
END:VEVENT
BEGIN:VEVENT
DTSTART;VALUE=DATE:20200911
DTEND;VALUE=DATE:20200915
DTSTAMP:20260423T180410
CREATED:20200104T151919Z
LAST-MODIFIED:20200104T151919Z
UID:489-1599789600-1600048799@kultur-des-dialogs.de
SUMMARY:Mehr als die Summe der Teile – vom Geheimnis des Dialogs nach David Bohm
DESCRIPTION:Einführungswochenende in den Dialog nach David Bohm \nDie Erkenntnis des Menschen ist immer fragmentarisch. Lernen wir aber bewusst gemeinsam zu denken\, entfaltet sich die Kraft der Gemeinschaft und ein Eindruck des Ganzen mit ungeahnten Einsichten wird erlebbar. Der Dialog nach David Bohm setzt hier an und will in ein gemeinsames\, neues und bewusstes Denken bringen. Bedingung ist dabei eine Haltung des Respekts\, der Achtsamkeit und der Verbundenheit. \nMit dem Seminar\, führen wir in das Wesen dieses Dialogverständnisses ein\, reflektieren zentrale dialogische Kompetenzen\, üben mit dem Dialogverfahren nach Bohm und erkunden die dialogische Haltung und die Chancen des Dialogs im Blick auf alltagsrelevante Fragen. Ziel ist es\, sowohl ein Gespür für die dialogische Haltung zu entwickeln und sich zugleich im gemeinsamen Denken zu üben. \nDer Dialog nach Bohm legt den Fokus auf die Aufmerksamkeit für das was gerade durch alle Unterschiedlichkeit und Vielfalt der Teilnehmenden entstehen will und nicht auf der Durchsetzung des Eigenen. Damit wird dieses Verfahren zu einem wertvollen Instrument\, wenn komplexe Themen bearbeitet werden sollen oder Beratungen ins Stocken geraten sind. \nIn Übungen\, mit Informationen\, im Austausch und natürlich in Dialogen machen wir uns auf die Reise\, das Geheimnis dieses Verfahrens zu entdecken. Herzlich willkommen!
URL:https://kultur-des-dialogs.de/veranstaltung/mehr-als-die-summe-der-teile-vom-geheimnis-des-dialogs-nach-david-bohm/
LOCATION:Ökodorf Sieben Linden\, Beetzendorf OT Poppau\, 38489\, Deutschland
END:VEVENT
BEGIN:VEVENT
DTSTART;VALUE=DATE:20200511
DTEND;VALUE=DATE:20200517
DTSTAMP:20260423T180410
CREATED:20200104T151120Z
LAST-MODIFIED:20200303T180629Z
UID:484-1589162400-1589594399@kultur-des-dialogs.de
SUMMARY:Gemeinsam Denken statt gegeneinander Reden
DESCRIPTION:Dialogische Kommunikation und kollektive Intelligenz \nIn diesem Seminar wird erfahrbar\, wie durch eine bewusste dialogische Haltung Gespräche eine eröffnende Qualität erhalten und die Potentiale einer Gruppe zur Entfaltung gebracht werden können. Mit der Orientierung an dialogischen Kernkompetenzen und einem Dialogverfahren für Gruppen werden Wege aufgezeigt\, wie Respekt und Neugier im Miteinander\, Gespräche\, die allen Raum geben und gemeinsame Prozesse\, die zu stimmigen und kraftvollen Lösungen führen\, möglich sind. Ein Seminar für Menschen\, die in Teams und Gruppen neue Wegen gehen möchten. \nDieses Seminar ist als Bildungsurlaub in Niedersachsen anerkannt. \nFlyer BU Dialog 2020
URL:https://kultur-des-dialogs.de/veranstaltung/gemeinsam-denken-statt-gegeneinander-reden/
LOCATION:Evang. Bildungszentrum Hermannsburg – Heimvolkshochschule gGmbH\, Lutterweg 16\, Hermannsburg\, 29320\, Deutschland
ORGANIZER;CN="":MAILTO:info@bildung-voller-leben.de
END:VEVENT
END:VCALENDAR